BEGIN:VCALENDAR
VERSION:2.0
PRODID:-//Plone.org//NONSGML plone.app.event//EN
X-WR-TIMEZONE:Europe/Berlin
BEGIN:VEVENT
SUMMARY:Herrscher\, Politik und Beratung in der Vormoderne
DTSTART;TZID=Europe/Berlin:20221207T161500
DTEND;TZID=Europe/Berlin:20221207T180000
DTSTAMP:20260419T215859Z
UID:3ede44c5a7e547a2bd9048e3cc41fd79@www.igw.uni-bonn.de
CREATED:20221130T112446Z
DESCRIPTION:Herrscher\, Politik und Beratung in der Vormoderne: klassische
  Kommunikation\nVortragsblock des Center for Classical Tradition (CCT) und
  des Zentrums "Macht und Herrschaft" zum Dies Academicus am 07.12.2022.\n\
 nDas Programm finden Sie unter: https://www.uni-bonn.de/de/studium/studien
 angebot/mehr/studium-universale
LAST-MODIFIED:20221130T125000Z
URL:https://www.igw.uni-bonn.de/de/veranstaltungen/dies-academicus
END:VEVENT
BEGIN:VTIMEZONE
TZID:Europe/Berlin
X-LIC-LOCATION:Europe/Berlin
BEGIN:STANDARD
DTSTART:20221030T020000
TZNAME:CET
TZOFFSETFROM:+0200
TZOFFSETTO:+0100
END:STANDARD
END:VTIMEZONE
END:VCALENDAR
